BEGIN:VCALENDAR
VERSION:2.0
PRODID:-//Puerto Vallarta Garden Club - ECPv6.2.9//NONSGML v1.0//EN
CALSCALE:GREGORIAN
METHOD:PUBLISH
X-ORIGINAL-URL:https://www.vallartagardenclub.com
X-WR-CALDESC:Events for Puerto Vallarta Garden Club
REFRESH-INTERVAL;VALUE=DURATION:PT1H
X-Robots-Tag:noindex
X-PUBLISHED-TTL:PT1H
BEGIN:VTIMEZONE
TZID:America/Mexico_City
BEGIN:STANDARD
TZOFFSETFROM:-0600
TZOFFSETTO:-0600
TZNAME:CST
DTSTART:20250101T000000
END:STANDARD
END:VTIMEZONE
BEGIN:VEVENT
DTSTART;TZID=America/Mexico_City:20250203T090000
DTEND;TZID=America/Mexico_City:20250203T110000
DTSTAMP:20260423T020038
CREATED:20241126T183600Z
LAST-MODIFIED:20250108T191336Z
UID:10000085-1738573200-1738580400@www.vallartagardenclub.com
SUMMARY:Weeding Warriors
DESCRIPTION:Meet at Pier Street in from of Dee’s Coffee and work whole area up to Olas Altas (Archie’s Wok maintains their own garden so leave that one alone)\n\n 
URL:https://www.vallartagardenclub.com/vgc-event/trimming-weeding-warriors-9/
CATEGORIES:Volunteer
ATTACH;FMTTYPE=image/jpeg:https://www.vallartagardenclub.com/wp-content/uploads/FAYE-1ST-PLANTS.jpg
END:VEVENT
BEGIN:VEVENT
DTSTART;TZID=America/Mexico_City:20250206T160000
DTEND;TZID=America/Mexico_City:20250206T180000
DTSTAMP:20260423T020038
CREATED:20241109T135025Z
LAST-MODIFIED:20241126T230648Z
UID:10000140-1738857600-1738864800@www.vallartagardenclub.com
SUMMARY:Wine & Weeding
DESCRIPTION:Meet at John Huston Statue
URL:https://www.vallartagardenclub.com/vgc-event/wine-water-weeding/2025-02-06/
LOCATION:John Huston Statue
CATEGORIES:Volunteer
ATTACH;FMTTYPE=image/jpeg:https://www.vallartagardenclub.com/wp-content/uploads/1.6-Barb-with-plant-scaled.jpeg
GEO:20.605915582551;-105.2338310253
END:VEVENT
BEGIN:VEVENT
DTSTART;TZID=America/Mexico_City:20250217T090000
DTEND;TZID=America/Mexico_City:20250217T110000
DTSTAMP:20260423T020038
CREATED:20241126T183553Z
LAST-MODIFIED:20250108T191425Z
UID:10000087-1739782800-1739790000@www.vallartagardenclub.com
SUMMARY:Weeding Warriors
DESCRIPTION:Meet at The Cigar Factory corner of Insurgentes & Augustin Rodriguez and work both side of street to Malecon \n 
URL:https://www.vallartagardenclub.com/vgc-event/trimming-weeding-warriors-8/
CATEGORIES:Volunteer
ATTACH;FMTTYPE=image/jpeg:https://www.vallartagardenclub.com/wp-content/uploads/FAYE-1ST-PLANTS.jpg
END:VEVENT
END:VCALENDAR