BEGIN:VCALENDAR
VERSION:2.0
PRODID:-//Puerto Vallarta Garden Club - ECPv6.2.9//NONSGML v1.0//EN
CALSCALE:GREGORIAN
METHOD:PUBLISH
X-ORIGINAL-URL:https://www.vallartagardenclub.com
X-WR-CALDESC:Events for Puerto Vallarta Garden Club
REFRESH-INTERVAL;VALUE=DURATION:PT1H
X-Robots-Tag:noindex
X-PUBLISHED-TTL:PT1H
BEGIN:VTIMEZONE
TZID:America/Mexico_City
BEGIN:STANDARD
TZOFFSETFROM:-0600
TZOFFSETTO:-0600
TZNAME:CST
DTSTART:20250101T000000
END:STANDARD
END:VTIMEZONE
BEGIN:VEVENT
DTSTART;TZID=America/Mexico_City:20250519T090000
DTEND;TZID=America/Mexico_City:20250519T110000
DTSTAMP:20260422T160436
CREATED:20241126T183452Z
LAST-MODIFIED:20241126T230427Z
UID:10000095-1747645200-1747652400@www.vallartagardenclub.com
SUMMARY:Weeding Warriors
DESCRIPTION:Areas to be announced weekly \n 
URL:https://www.vallartagardenclub.com/vgc-event/trimming-weeding-warriors-2/
CATEGORIES:Volunteer
ATTACH;FMTTYPE=image/jpeg:https://www.vallartagardenclub.com/wp-content/uploads/FAYE-1ST-PLANTS.jpg
END:VEVENT
END:VCALENDAR