BEGIN:VCALENDAR
VERSION:2.0
PRODID:-//Puerto Vallarta Garden Club - ECPv6.2.9//NONSGML v1.0//EN
CALSCALE:GREGORIAN
METHOD:PUBLISH
X-ORIGINAL-URL:https://www.vallartagardenclub.com
X-WR-CALDESC:Events for Puerto Vallarta Garden Club
REFRESH-INTERVAL;VALUE=DURATION:PT1H
X-Robots-Tag:noindex
X-PUBLISHED-TTL:PT1H
BEGIN:VTIMEZONE
TZID:America/Mexico_City
BEGIN:STANDARD
TZOFFSETFROM:-0600
TZOFFSETTO:-0600
TZNAME:CST
DTSTART:20250101T000000
END:STANDARD
END:VTIMEZONE
BEGIN:VEVENT
DTSTART;TZID=America/Mexico_City:20251204T090000
DTEND;TZID=America/Mexico_City:20251204T100000
DTSTAMP:20260419T091539
CREATED:20250927T204028Z
LAST-MODIFIED:20250927T204028Z
UID:10000166-1764838800-1764842400@www.vallartagardenclub.com
SUMMARY:Gardener’s Gathering
DESCRIPTION:Gardeners Gathering is a great way to come socialize while being in nature. It’s a chance to garden with new friends!
URL:https://www.vallartagardenclub.com/vgc-event/gardeners-gathering/2025-12-04/
LOCATION:Jalisco
CATEGORIES:Social
ATTACH;FMTTYPE=image/jpeg:https://www.vallartagardenclub.com/wp-content/uploads/Gardeners-Gathering-e1759005277298.jpg
END:VEVENT
BEGIN:VEVENT
DTSTART;TZID=America/Mexico_City:20251207T160000
DTEND;TZID=America/Mexico_City:20251207T173000
DTSTAMP:20260419T091539
CREATED:20250927T205748Z
LAST-MODIFIED:20250927T205748Z
UID:10000174-1765123200-1765128600@www.vallartagardenclub.com
SUMMARY:Music in the Park
DESCRIPTION:Music in the Park is a small concert series that is free to the public! \nEvery other week a new talent will entertain while drinks and snacks are available for a small donation.
URL:https://www.vallartagardenclub.com/vgc-event/music-in-the-park/2025-12-07/
LOCATION:La Isla Cuale\, Isla del rio cuale\, Puerto Vallarta\, Jalisco\, 48380\, Mexico
CATEGORIES:Social
ATTACH;FMTTYPE=image/jpeg:https://www.vallartagardenclub.com/wp-content/uploads/Music-in-the-Park-scaled.jpeg
GEO:20.606259;-105.232838
X-APPLE-STRUCTURED-LOCATION;VALUE=URI;X-ADDRESS=La Isla Cuale Isla del rio cuale Puerto Vallarta Jalisco 48380 Mexico;X-APPLE-RADIUS=500;X-TITLE=Isla del rio cuale:geo:-105.232838,20.606259
END:VEVENT
BEGIN:VEVENT
DTSTART;TZID=America/Mexico_City:20251209T090000
DTEND;TZID=America/Mexico_City:20251209T100000
DTSTAMP:20260419T091539
CREATED:20250927T202256Z
LAST-MODIFIED:20250927T204126Z
UID:10000152-1765270800-1765274400@www.vallartagardenclub.com
SUMMARY:Weeding Warriors 
DESCRIPTION:Weeding Warriors is a volunteer group that meets to beautify the area of the week!
URL:https://www.vallartagardenclub.com/vgc-event/weeding-warriors/2025-12-09/
LOCATION:Jalisco
CATEGORIES:Volunteer
ATTACH;FMTTYPE=image/jpeg:https://www.vallartagardenclub.com/wp-content/uploads/Weeding-Warriors-e1759004233185.jpg
END:VEVENT
BEGIN:VEVENT
DTSTART;TZID=America/Mexico_City:20251209T180000
DTEND;TZID=America/Mexico_City:20251209T203000
DTSTAMP:20260419T091539
CREATED:20251118T145453Z
LAST-MODIFIED:20251118T155136Z
UID:10000190-1765303200-1765312200@www.vallartagardenclub.com
SUMMARY:Welcome Back Cocktail Party
DESCRIPTION:Our annual cocktail party to welcome everyone back to Puerto Vallarta for the high season! \nTicket Includes: 1 Drink\, Array of appetizers. \nLive Entertainment: BAND LA-BOHEMIA. \nChristmas Raffle & Membership Renewal. \nCome and join us for fun and friendship!
URL:https://www.vallartagardenclub.com/vgc-event/welcome-back-cocktail-party/
LOCATION:Casa Karma\, Casa Karma\, Puerto Vallarta\, Puerto Vallarta\, Jalisco\, 48399\, Mexico
CATEGORIES:Social
ATTACH;FMTTYPE=image/webp:https://www.vallartagardenclub.com/wp-content/uploads/welcome-back.webp
END:VEVENT
BEGIN:VEVENT
DTSTART;TZID=America/Mexico_City:20251221T160000
DTEND;TZID=America/Mexico_City:20251221T173000
DTSTAMP:20260419T091539
CREATED:20250927T205748Z
LAST-MODIFIED:20250927T205748Z
UID:10000175-1766332800-1766338200@www.vallartagardenclub.com
SUMMARY:Music in the Park
DESCRIPTION:Music in the Park is a small concert series that is free to the public! \nEvery other week a new talent will entertain while drinks and snacks are available for a small donation.
URL:https://www.vallartagardenclub.com/vgc-event/music-in-the-park/2025-12-21/
LOCATION:La Isla Cuale\, Isla del rio cuale\, Puerto Vallarta\, Jalisco\, 48380\, Mexico
CATEGORIES:Social
ATTACH;FMTTYPE=image/jpeg:https://www.vallartagardenclub.com/wp-content/uploads/Music-in-the-Park-scaled.jpeg
GEO:20.606259;-105.232838
X-APPLE-STRUCTURED-LOCATION;VALUE=URI;X-ADDRESS=La Isla Cuale Isla del rio cuale Puerto Vallarta Jalisco 48380 Mexico;X-APPLE-RADIUS=500;X-TITLE=Isla del rio cuale:geo:-105.232838,20.606259
END:VEVENT
BEGIN:VEVENT
DTSTART;TZID=America/Mexico_City:20251223T090000
DTEND;TZID=America/Mexico_City:20251223T100000
DTSTAMP:20260419T091539
CREATED:20250927T202256Z
LAST-MODIFIED:20250927T204126Z
UID:10000153-1766480400-1766484000@www.vallartagardenclub.com
SUMMARY:Weeding Warriors 
DESCRIPTION:Weeding Warriors is a volunteer group that meets to beautify the area of the week!
URL:https://www.vallartagardenclub.com/vgc-event/weeding-warriors/2025-12-23/
LOCATION:Jalisco
CATEGORIES:Volunteer
ATTACH;FMTTYPE=image/jpeg:https://www.vallartagardenclub.com/wp-content/uploads/Weeding-Warriors-e1759004233185.jpg
END:VEVENT
END:VCALENDAR