BEGIN:VCALENDAR
VERSION:2.0
PRODID:-//Puerto Vallarta Garden Club - ECPv6.2.9//NONSGML v1.0//EN
CALSCALE:GREGORIAN
METHOD:PUBLISH
X-WR-CALNAME:Puerto Vallarta Garden Club
X-ORIGINAL-URL:https://www.vallartagardenclub.com
X-WR-CALDESC:Events for Puerto Vallarta Garden Club
REFRESH-INTERVAL;VALUE=DURATION:PT1H
X-Robots-Tag:noindex
X-PUBLISHED-TTL:PT1H
BEGIN:VTIMEZONE
TZID:America/Mexico_City
BEGIN:STANDARD
TZOFFSETFROM:-0600
TZOFFSETTO:-0600
TZNAME:CST
DTSTART:20260101T000000
END:STANDARD
END:VTIMEZONE
BEGIN:VEVENT
DTSTART;TZID=America/Mexico_City:20260101T090000
DTEND;TZID=America/Mexico_City:20260101T100000
DTSTAMP:20260419T105034
CREATED:20250927T204028Z
LAST-MODIFIED:20250927T204028Z
UID:10000167-1767258000-1767261600@www.vallartagardenclub.com
SUMMARY:Gardener’s Gathering
DESCRIPTION:Gardeners Gathering is a great way to come socialize while being in nature. It’s a chance to garden with new friends!
URL:https://www.vallartagardenclub.com/vgc-event/gardeners-gathering/2026-01-01/
LOCATION:Jalisco
CATEGORIES:Social
ATTACH;FMTTYPE=image/jpeg:https://www.vallartagardenclub.com/wp-content/uploads/Gardeners-Gathering-e1759005277298.jpg
END:VEVENT
BEGIN:VEVENT
DTSTART;TZID=America/Mexico_City:20260104T160000
DTEND;TZID=America/Mexico_City:20260104T173000
DTSTAMP:20260419T105034
CREATED:20250927T205748Z
LAST-MODIFIED:20250927T205748Z
UID:10000176-1767542400-1767547800@www.vallartagardenclub.com
SUMMARY:Music in the Park
DESCRIPTION:Music in the Park is a small concert series that is free to the public! \nEvery other week a new talent will entertain while drinks and snacks are available for a small donation.
URL:https://www.vallartagardenclub.com/vgc-event/music-in-the-park/2026-01-04/
LOCATION:La Isla Cuale\, Isla del rio cuale\, Puerto Vallarta\, Jalisco\, 48380\, Mexico
CATEGORIES:Social
ATTACH;FMTTYPE=image/jpeg:https://www.vallartagardenclub.com/wp-content/uploads/Music-in-the-Park-scaled.jpeg
GEO:20.606259;-105.232838
X-APPLE-STRUCTURED-LOCATION;VALUE=URI;X-ADDRESS=La Isla Cuale Isla del rio cuale Puerto Vallarta Jalisco 48380 Mexico;X-APPLE-RADIUS=500;X-TITLE=Isla del rio cuale:geo:-105.232838,20.606259
END:VEVENT
BEGIN:VEVENT
DTSTART;TZID=America/Mexico_City:20260106T090000
DTEND;TZID=America/Mexico_City:20260106T100000
DTSTAMP:20260419T105034
CREATED:20250927T202256Z
LAST-MODIFIED:20250927T204126Z
UID:10000154-1767690000-1767693600@www.vallartagardenclub.com
SUMMARY:Weeding Warriors 
DESCRIPTION:Weeding Warriors is a volunteer group that meets to beautify the area of the week!
URL:https://www.vallartagardenclub.com/vgc-event/weeding-warriors/2026-01-06/
LOCATION:Jalisco
CATEGORIES:Volunteer
ATTACH;FMTTYPE=image/jpeg:https://www.vallartagardenclub.com/wp-content/uploads/Weeding-Warriors-e1759004233185.jpg
END:VEVENT
BEGIN:VEVENT
DTSTART;TZID=America/Mexico_City:20260118T160000
DTEND;TZID=America/Mexico_City:20260118T173000
DTSTAMP:20260419T105034
CREATED:20250927T205748Z
LAST-MODIFIED:20250927T205748Z
UID:10000177-1768752000-1768757400@www.vallartagardenclub.com
SUMMARY:Music in the Park
DESCRIPTION:Music in the Park is a small concert series that is free to the public! \nEvery other week a new talent will entertain while drinks and snacks are available for a small donation.
URL:https://www.vallartagardenclub.com/vgc-event/music-in-the-park/2026-01-18/
LOCATION:La Isla Cuale\, Isla del rio cuale\, Puerto Vallarta\, Jalisco\, 48380\, Mexico
CATEGORIES:Social
ATTACH;FMTTYPE=image/jpeg:https://www.vallartagardenclub.com/wp-content/uploads/Music-in-the-Park-scaled.jpeg
GEO:20.606259;-105.232838
X-APPLE-STRUCTURED-LOCATION;VALUE=URI;X-ADDRESS=La Isla Cuale Isla del rio cuale Puerto Vallarta Jalisco 48380 Mexico;X-APPLE-RADIUS=500;X-TITLE=Isla del rio cuale:geo:-105.232838,20.606259
END:VEVENT
BEGIN:VEVENT
DTSTART;TZID=America/Mexico_City:20260120T090000
DTEND;TZID=America/Mexico_City:20260120T100000
DTSTAMP:20260419T105034
CREATED:20250927T202256Z
LAST-MODIFIED:20250927T204126Z
UID:10000155-1768899600-1768903200@www.vallartagardenclub.com
SUMMARY:Weeding Warriors 
DESCRIPTION:Weeding Warriors is a volunteer group that meets to beautify the area of the week!
URL:https://www.vallartagardenclub.com/vgc-event/weeding-warriors/2026-01-20/
LOCATION:Jalisco
CATEGORIES:Volunteer
ATTACH;FMTTYPE=image/jpeg:https://www.vallartagardenclub.com/wp-content/uploads/Weeding-Warriors-e1759004233185.jpg
END:VEVENT
BEGIN:VEVENT
DTSTART;TZID=America/Mexico_City:20260122T173000
DTEND;TZID=America/Mexico_City:20260122T230000
DTSTAMP:20260419T105034
CREATED:20250927T211430Z
LAST-MODIFIED:20251204T175051Z
UID:10000189-1769103000-1769122800@www.vallartagardenclub.com
SUMMARY:Wonderland Gala
DESCRIPTION: The gala highlight of the year! \nThis year’s theme is Wonderland\, and it will be a night of delicious food\, great music\, and beautiful auction items.
URL:https://www.vallartagardenclub.com/vgc-event/wonderland-gala/
LOCATION:Oscar’s Restaurant
CATEGORIES:Social,Special Event
ATTACH;FMTTYPE=image/jpeg:https://www.vallartagardenclub.com/wp-content/uploads/wonderlandgala.jpg
GEO:20.60595926916;-105.23735598383
END:VEVENT
END:VCALENDAR